BEGIN:VCALENDAR
VERSION:2.0
PRODID:-//www.kansascasa.org//NONSGML kigkonsult.se iCalcreator 2.30.10//
CALSCALE:GREGORIAN
METHOD:PUBLISH
UID:878b4eeb-c5e4-4f00-a007-8a229e0dcc80
X-WR-CALDESC:Events being hosted in Woodson\, Wilson\, Allen & Neosho Count
 ies SEE FLYER
X-WR-RELCALID:b25309c631bc75db957ed36f473feef4
X-WR-TIMEZONE:America/Chicago
BEGIN:VTIMEZONE
TZID:America/Chicago
BEGIN:STANDARD
TZNAME:CST
DTSTART:20251102T020000
TZOFFSETFROM:-0500
TZOFFSETTO:-0600
RDATE:20261101T020000
END:STANDARD
BEGIN:DAYLIGHT
TZNAME:CDT
DTSTART:20260308T020000
TZOFFSETFROM:-0600
TZOFFSETTO:-0500
RDATE:20270314T020000
END:DAYLIGHT
END:VTIMEZONE
BEGIN:VEVENT
UID:75adefca-83b0-432f-ba50-8873d04fa919
DTSTAMP:20260421T083053Z
DESCRIPTION:Events being hosted in Woodson\, Wilson\, Allen & Neosho Counti
 es SEE FLYER
DTSTART;TZID=America/Chicago:20260401T000000
DTEND;TZID=America/Chicago:20260430T000000
LOCATION:Events being hosted in Woodson\, Wilson\, Allen & Neosho Counties 
 SEE FLYER
SUMMARY:All Events - 31st JD Woodson\, Wilson\, Allen & Neosho
END:VEVENT
END:VCALENDAR
